BEGIN:VCALENDAR
VERSION:2.0
PRODID:-//South KC Chamber - ECPv6.15.18//NONSGML v1.0//EN
CALSCALE:GREGORIAN
METHOD:PUBLISH
X-WR-CALNAME:South KC Chamber
X-ORIGINAL-URL:https://southkcchamber.com
X-WR-CALDESC:Events for South KC Chamber
REFRESH-INTERVAL;VALUE=DURATION:PT1H
X-Robots-Tag:noindex
X-PUBLISHED-TTL:PT1H
BEGIN:VTIMEZONE
TZID:America/Chicago
BEGIN:DAYLIGHT
TZOFFSETFROM:-0600
TZOFFSETTO:-0500
TZNAME:CDT
DTSTART:20220313T080000
END:DAYLIGHT
BEGIN:STANDARD
TZOFFSETFROM:-0500
TZOFFSETTO:-0600
TZNAME:CST
DTSTART:20221106T070000
END:STANDARD
BEGIN:DAYLIGHT
TZOFFSETFROM:-0600
TZOFFSETTO:-0500
TZNAME:CDT
DTSTART:20230312T080000
END:DAYLIGHT
BEGIN:STANDARD
TZOFFSETFROM:-0500
TZOFFSETTO:-0600
TZNAME:CST
DTSTART:20231105T070000
END:STANDARD
BEGIN:DAYLIGHT
TZOFFSETFROM:-0600
TZOFFSETTO:-0500
TZNAME:CDT
DTSTART:20240310T080000
END:DAYLIGHT
BEGIN:STANDARD
TZOFFSETFROM:-0500
TZOFFSETTO:-0600
TZNAME:CST
DTSTART:20241103T070000
END:STANDARD
END:VTIMEZONE
BEGIN:VEVENT
DTSTART;TZID=America/Chicago:20230808T080000
DTEND;TZID=America/Chicago:20230808T090000
DTSTAMP:20260425T223849
CREATED:20230721T145325Z
LAST-MODIFIED:20230721T145325Z
UID:5157-1691481600-1691485200@southkcchamber.com
SUMMARY:August Morning Mingle
DESCRIPTION:Grab your business cards\, practice your 30-second elevator speech and plan to join us for our July Morning Mingle \n\nTuesday\, August 8\, 2023\n8:00 a.m. – 9:00 a.m.\nLocation: \n \n311 E. 135th Street\nKansas City\, MO 64145 \nCost: Free\n\nReservations requested by 8/7/2023 \nFor questions contact the Chamber Office at\nvwolgast@southkcchamber.com
URL:https://southkcchamber.com/event/august-morning-mingle-2/
LOCATION:The Courtyard at Rosehill Gardens\, 311 E 135th Street\, Kansas City\, MO\, 64145\, United States
CATEGORIES:Morning Mingle
END:VEVENT
END:VCALENDAR