BEGIN:VCALENDAR
VERSION:2.0
PRODID:-//South KC Chamber - ECPv6.15.18//NONSGML v1.0//EN
CALSCALE:GREGORIAN
METHOD:PUBLISH
X-WR-CALNAME:South KC Chamber
X-ORIGINAL-URL:https://southkcchamber.com
X-WR-CALDESC:Events for South KC Chamber
REFRESH-INTERVAL;VALUE=DURATION:PT1H
X-Robots-Tag:noindex
X-PUBLISHED-TTL:PT1H
BEGIN:VTIMEZONE
TZID:America/Chicago
BEGIN:DAYLIGHT
TZOFFSETFROM:-0600
TZOFFSETTO:-0500
TZNAME:CDT
DTSTART:20250309T080000
END:DAYLIGHT
BEGIN:STANDARD
TZOFFSETFROM:-0500
TZOFFSETTO:-0600
TZNAME:CST
DTSTART:20251102T070000
END:STANDARD
BEGIN:DAYLIGHT
TZOFFSETFROM:-0600
TZOFFSETTO:-0500
TZNAME:CDT
DTSTART:20260308T080000
END:DAYLIGHT
BEGIN:STANDARD
TZOFFSETFROM:-0500
TZOFFSETTO:-0600
TZNAME:CST
DTSTART:20261101T070000
END:STANDARD
BEGIN:DAYLIGHT
TZOFFSETFROM:-0600
TZOFFSETTO:-0500
TZNAME:CDT
DTSTART:20270314T080000
END:DAYLIGHT
BEGIN:STANDARD
TZOFFSETFROM:-0500
TZOFFSETTO:-0600
TZNAME:CST
DTSTART:20271107T070000
END:STANDARD
END:VTIMEZONE
BEGIN:VEVENT
DTSTART;TZID=America/Chicago:20261010T100000
DTEND;TZID=America/Chicago:20261010T150000
DTSTAMP:20260423T111426
CREATED:20260310T180406Z
LAST-MODIFIED:20260410T160255Z
UID:6117-1791626400-1791644400@southkcchamber.com
SUMMARY:South KC Block Party
DESCRIPTION: \nBusiness and community organizations celebrating all things South Kansas City!\nDon’t miss the 9th Annual South KC Block Party at Red Bridge Shopping Center.  Check back often for more information.  Sponsorships are available.  Reach out to Rick at 816-761-7660 or email rchambers@southkcchamber.com.\n\n\n \n\n\n	\n		Share This!\n		FacebookTwitterLinkedInEmail
URL:https://southkcchamber.com/event/south-kc-block-party-4/
LOCATION:Red Bridge Shopping Center\, 11212 Holmes Road\, Kansas City\, MO\, 64131\, United States
CATEGORIES:South KC Block Party
ORGANIZER;CN="Red Bridge Shopping Center":MAILTO:rchambers@southkcchamber.com
END:VEVENT
END:VCALENDAR