BEGIN:VCALENDAR
VERSION:2.0
PRODID:-//South KC Chamber - ECPv6.15.18//NONSGML v1.0//EN
CALSCALE:GREGORIAN
METHOD:PUBLISH
X-ORIGINAL-URL:https://southkcchamber.com
X-WR-CALDESC:Events for South KC Chamber
REFRESH-INTERVAL;VALUE=DURATION:PT1H
X-Robots-Tag:noindex
X-PUBLISHED-TTL:PT1H
BEGIN:VTIMEZONE
TZID:America/Chicago
BEGIN:DAYLIGHT
TZOFFSETFROM:-0600
TZOFFSETTO:-0500
TZNAME:CDT
DTSTART:20220313T080000
END:DAYLIGHT
BEGIN:STANDARD
TZOFFSETFROM:-0500
TZOFFSETTO:-0600
TZNAME:CST
DTSTART:20221106T070000
END:STANDARD
BEGIN:DAYLIGHT
TZOFFSETFROM:-0600
TZOFFSETTO:-0500
TZNAME:CDT
DTSTART:20230312T080000
END:DAYLIGHT
BEGIN:STANDARD
TZOFFSETFROM:-0500
TZOFFSETTO:-0600
TZNAME:CST
DTSTART:20231105T070000
END:STANDARD
BEGIN:DAYLIGHT
TZOFFSETFROM:-0600
TZOFFSETTO:-0500
TZNAME:CDT
DTSTART:20240310T080000
END:DAYLIGHT
BEGIN:STANDARD
TZOFFSETFROM:-0500
TZOFFSETTO:-0600
TZNAME:CST
DTSTART:20241103T070000
END:STANDARD
END:VTIMEZONE
BEGIN:VEVENT
DTSTART;TZID=America/Chicago:20231007T100000
DTEND;TZID=America/Chicago:20231007T160000
DTSTAMP:20260425T173057
CREATED:20230417T194500Z
LAST-MODIFIED:20230925T212012Z
UID:5128-1696672800-1696694400@southkcchamber.com
SUMMARY:South KC Block Party
DESCRIPTION:Business and community organizations celebrating all things South Kansas City!\nWe are gearing up for our 6th Annual South KC Block Party at Red Bridge Shopping Center and you won’t want to miss it.\n \nThis year’s event will once again have live entertainment\, food trucks\, vendor booths\, free carnival games\, and several other kids’ activities\, Beer Garden\, and Center School District will be starting/finishing their annual 5K run at the shopping center that morning.  And we are excited to once again have The Strawberry Swing\, Kansas City’s celebration of the handmade movement popping up.  The Swing’s juried makers/artists specialize in ceramics\, clothing\, printing\, painting\, photography\, woodworking\, leatherworking\, metalsmithing\, fiber arts\, and more. Returning this year will be the Car Show and Corn Hole Tournament\nRegister for the Car Show\n\nRegister to be a Vendor or Sponsor Now!\nVendor Booth Application 2023\nWe have several ways your business can participate and benefit from this event.  Please take a moment to review the information below to determine how your company wants to be involved.\nSponsor Opportunities:\n\nAll Sponsorships include the following:\n\n\nRecognition on the Chamber website\nRecognition in Chamber social media promotions\nVerbal on-stage recognition throughout the day\n\n\nPresenting Sponsor – $5\,000 (1 available)\n\n\nNamed as Presenting Sponsor\nPremier logo placement on all festival publicity\nProminently located booth space at the event (includes table & chairs)\nUp to four company banners are displayed at the event (banner provided by sponsor)\nCompany logo on the back of volunteer t-shirts\nCompany logo on 3 event banners to be displayed at Red Bridge a month prior to the event (provided by the Chamber)\n\nMain Stage Sponsor – $3\,000 (1 available) \n\nStage naming rights\nCompany logo placement on all festival publicity\nCompany banner displayed on the stage (banner provided by sponsor)\nCompany logo on the back of volunteer t-shirts\n\n\nBand Sponsor – $1\,500 (1 available)\nThe band will begin at 2:00 p.m. on the Main Stage  \n\nRecognition from the stage during the concert\nCompany logo placement on all concert promotion\nCompany banner displayed on the stage (banner provided by sponsor)\nCompany logo on the back of volunteer t-shirts\n\nFun Zone Sponsor – $1\,000 (1 available)\n\nFun Zone naming rights\nCompany logo placement on all festival publicity\nCompany logo on Fun Zone signage\nCompany banner displayed at the Fun Zone (banner provided by sponsor)\nCompany logo on the back of volunteer t-shirts\n\n\n\nCar Show Sponsor – $1\,000 (1 available) \n\nCompany logo placement on all festival publicity\nCompany banner displayed at the Car Show (banner provided by sponsor)\nCompany logo on the back of volunteer t-shirts\n\nBeer Garden Sponsor – $1\,500 (1 available) \n\nBeer Garden naming rights\nCompany logo placement on all festival publicity\nCompany logo on Beer Garden signage\nCompany banner displayed at the Beer Garden (banner provided by sponsor)\nCompany logo on the back of volunteer t-shirts\n\n\nPortable Toilet Sponsor – $500 (1 available)\n\n\nCompany logo signage on each Portable Toilet (10 total)\nCompany logo placement on festival flyers and posters\nCompany logo on the back of volunteer t-shirts\n\n\nSeating Sponsor – $500 (1 available)\n\nSponsor signage in the seating area in front of the stage\nCompany logo placement on festival flyers and posters\nCompany logo on the back of volunteer t-shirt\n\n\nKC Wolf Sponsor – $600\n\nCompany logo placement on all festival flyers and posters\nCompany logo on the back of volunteer t-shirt\n\nKeep It Local Sponsor – $500\n\nCompany logo placement on all festival flyers and posters\nCompany logo on the back of volunteer t-shirt\nOptional Vendor Booth at the Event\n\n Neighborhood Sponsor – $250\n\nCompany name listed on festival flyers and posters\nCompany name on the back of volunteer t-shirt\nOptional Vendor Booth at the Event\n\nVendor Booths\n(Vendor must provide table\, chairs\, and proof of liability insurance)\nBring Your Own 10’x10′ Tent: $125/South KC Chamber members; $150/Non-members\n\n\nTent Provided: $175/South KC Chamber members; $200/Non-members\n\n\nPromote your business to attendees\nRecognized on promotions of vendors attending the event (print & social media)\n\nAnother Idea\nIf you have another idea for sponsorship related to your unique product or service\, feel free to contact the Chamber with your idea.  We are ready to listen!\n\n\n\n\n	\n		Share This!\n		FacebookTwitterLinkedInEmail
URL:https://southkcchamber.com/event/south-kc-block-party-2023/
LOCATION:Red Bridge Shopping Center\, 11212 Holmes Road\, Kansas City\, MO\, 64131\, United States
CATEGORIES:South KC Block Party
ATTACH;FMTTYPE=image/png:https://southkcchamber.com/wp-content/uploads/2023/04/Block-Party-Web-Ad.png
END:VEVENT
END:VCALENDAR