BEGIN:VCALENDAR
VERSION:2.0
PRODID:-//South KC Chamber - ECPv6.15.18//NONSGML v1.0//EN
CALSCALE:GREGORIAN
METHOD:PUBLISH
X-ORIGINAL-URL:https://southkcchamber.com
X-WR-CALDESC:Events for South KC Chamber
REFRESH-INTERVAL;VALUE=DURATION:PT1H
X-Robots-Tag:noindex
X-PUBLISHED-TTL:PT1H
BEGIN:VTIMEZONE
TZID:America/Chicago
BEGIN:DAYLIGHT
TZOFFSETFROM:-0600
TZOFFSETTO:-0500
TZNAME:CDT
DTSTART:20240310T080000
END:DAYLIGHT
BEGIN:STANDARD
TZOFFSETFROM:-0500
TZOFFSETTO:-0600
TZNAME:CST
DTSTART:20241103T070000
END:STANDARD
BEGIN:DAYLIGHT
TZOFFSETFROM:-0600
TZOFFSETTO:-0500
TZNAME:CDT
DTSTART:20250309T080000
END:DAYLIGHT
BEGIN:STANDARD
TZOFFSETFROM:-0500
TZOFFSETTO:-0600
TZNAME:CST
DTSTART:20251102T070000
END:STANDARD
BEGIN:DAYLIGHT
TZOFFSETFROM:-0600
TZOFFSETTO:-0500
TZNAME:CDT
DTSTART:20260308T080000
END:DAYLIGHT
BEGIN:STANDARD
TZOFFSETFROM:-0500
TZOFFSETTO:-0600
TZNAME:CST
DTSTART:20261101T070000
END:STANDARD
END:VTIMEZONE
BEGIN:VEVENT
DTSTART;TZID=America/Chicago:20251105T163000
DTEND;TZID=America/Chicago:20251105T180000
DTSTAMP:20260423T110523
CREATED:20250908T201719Z
LAST-MODIFIED:20251020T204236Z
UID:5973-1762360200-1762365600@southkcchamber.com
SUMMARY:Joint Chamber Business After Hours at Hawthorn Bank
DESCRIPTION:Join us for a very special after-hours mixer with the South KC\, Belton\, Grandview and Raymore Chamber’s of Commerce with their member Hawthorn Bank celebrating its 160th anniversary! Appetizers and drinks will be available. We look forward to seeing you for a fun evening of conversations and connections! \nBring a friend and make connections\, enjoy drinks\, or just have a great time at this FREE networking event. \nWe can’t wait to see you there! \nRegister Here\n\n\n\n\n\n\n\n\n\n\n\n\n\n\n\n\n\n\n\n\n\n\n\n\n\n\n\n\n\n\nHawthorn Bank – Belton Banking Center\n8127 E. 171st Street\, Belton\, MO 64012 \n\nView on map \n\n\n\n\n\n\n\n\n\n\n\n\n\n\n\n\n\n\n\n\n\n\n\n\n\n\n\n\n\n\n\n\n\n\n\n\n	\n		Share This!\n		FacebookTwitterLinkedInEmail
URL:https://southkcchamber.com/event/joint-chamber-business-after-hours-at-hawthorne-bank/
LOCATION:Hawthorn Bank\, 8127 E. 171st Street\, Belton\, Missouri\, 64012
CATEGORIES:Happy Hour,Networking
END:VEVENT
END:VCALENDAR