BEGIN:VCALENDAR
VERSION:2.0
PRODID:-//South KC Chamber - ECPv6.15.18//NONSGML v1.0//EN
CALSCALE:GREGORIAN
METHOD:PUBLISH
X-WR-CALNAME:South KC Chamber
X-ORIGINAL-URL:https://southkcchamber.com
X-WR-CALDESC:Events for South KC Chamber
REFRESH-INTERVAL;VALUE=DURATION:PT1H
X-Robots-Tag:noindex
X-PUBLISHED-TTL:PT1H
BEGIN:VTIMEZONE
TZID:America/Chicago
BEGIN:DAYLIGHT
TZOFFSETFROM:-0600
TZOFFSETTO:-0500
TZNAME:CDT
DTSTART:20220313T080000
END:DAYLIGHT
BEGIN:STANDARD
TZOFFSETFROM:-0500
TZOFFSETTO:-0600
TZNAME:CST
DTSTART:20221106T070000
END:STANDARD
BEGIN:DAYLIGHT
TZOFFSETFROM:-0600
TZOFFSETTO:-0500
TZNAME:CDT
DTSTART:20230312T080000
END:DAYLIGHT
BEGIN:STANDARD
TZOFFSETFROM:-0500
TZOFFSETTO:-0600
TZNAME:CST
DTSTART:20231105T070000
END:STANDARD
BEGIN:DAYLIGHT
TZOFFSETFROM:-0600
TZOFFSETTO:-0500
TZNAME:CDT
DTSTART:20240310T080000
END:DAYLIGHT
BEGIN:STANDARD
TZOFFSETFROM:-0500
TZOFFSETTO:-0600
TZNAME:CST
DTSTART:20241103T070000
END:STANDARD
END:VTIMEZONE
BEGIN:VEVENT
DTSTART;TZID=America/Chicago:20230126T110000
DTEND;TZID=America/Chicago:20230126T130000
DTSTAMP:20260425T221801
CREATED:20221216T181956Z
LAST-MODIFIED:20221216T190735Z
UID:4995-1674730800-1674738000@southkcchamber.com
SUMMARY:Joint Chamber Lunch at Wayside Waifs
DESCRIPTION:  \n\n \nPlease join leaders and members from the South Kansas City\, Grandview\, and Belton Chambers of Commerce for lunch and networking. Our speaker will be Katherine Maloney\, VP of Workforce Development at Goodwill to learn about the resources available for FREE to local businesses\, like assistance with Job Fairs\, Hiring Events\, training\, and more. \n\n\nThursday\, January 26\, 2023\n\n11:00 a.m. – 1:00 p.m.\n\nLocation: \n \n  \n3901 Martha Truman Drive\nKansas City\, Mo 64137\nThe Chamber would like to encourage all attendees to bring a donation for Wayside Waifs from their Wish List. \n\nCost: $20/Members | $30/Non-members\n\n\n\nYou don’t have to be a Chamber member to attend \nReservations requested by 1/20/2023 \n \n\nSponsored by:\n \n\n\n\n	\n		Share This!\n		FacebookTwitterLinkedInEmail
URL:https://southkcchamber.com/event/joint-chamber-lunch-at-wayside-waifs-january-2023/
LOCATION:Wayside Waifs\, 3901 Martha Truman Drive\, Kansas City\, 64137
CATEGORIES:Networking
END:VEVENT
END:VCALENDAR