BEGIN:VCALENDAR
VERSION:2.0
PRODID:-//South KC Chamber - ECPv6.15.18//NONSGML v1.0//EN
CALSCALE:GREGORIAN
METHOD:PUBLISH
X-WR-CALNAME:South KC Chamber
X-ORIGINAL-URL:https://southkcchamber.com
X-WR-CALDESC:Events for South KC Chamber
REFRESH-INTERVAL;VALUE=DURATION:PT1H
X-Robots-Tag:noindex
X-PUBLISHED-TTL:PT1H
BEGIN:VTIMEZONE
TZID:America/Chicago
BEGIN:DAYLIGHT
TZOFFSETFROM:-0600
TZOFFSETTO:-0500
TZNAME:CDT
DTSTART:20250309T080000
END:DAYLIGHT
BEGIN:STANDARD
TZOFFSETFROM:-0500
TZOFFSETTO:-0600
TZNAME:CST
DTSTART:20251102T070000
END:STANDARD
BEGIN:DAYLIGHT
TZOFFSETFROM:-0600
TZOFFSETTO:-0500
TZNAME:CDT
DTSTART:20260308T080000
END:DAYLIGHT
BEGIN:STANDARD
TZOFFSETFROM:-0500
TZOFFSETTO:-0600
TZNAME:CST
DTSTART:20261101T070000
END:STANDARD
BEGIN:DAYLIGHT
TZOFFSETFROM:-0600
TZOFFSETTO:-0500
TZNAME:CDT
DTSTART:20270314T080000
END:DAYLIGHT
BEGIN:STANDARD
TZOFFSETFROM:-0500
TZOFFSETTO:-0600
TZNAME:CST
DTSTART:20271107T070000
END:STANDARD
END:VTIMEZONE
BEGIN:VEVENT
DTSTART;TZID=America/Chicago:20261110T080000
DTEND;TZID=America/Chicago:20261110T090000
DTSTAMP:20260424T143606
CREATED:20260409T203958Z
LAST-MODIFIED:20260409T204000Z
UID:6240-1794297600-1794301200@southkcchamber.com
SUMMARY:Morning Mingle with Community Assistance Coalition
DESCRIPTION:Start your morning with coffee\, conversation\, and meaningful connections with fellow Chamber members and guests. \nThis casual networking event is a great way to build relationships\, share your business story and strengthen our South KC community.  Community Assistance Coalition is hosting this Mingle to show off their new\, larger facility\, which allows them to expand their reach by serving more families with improved efficiency and dignity. \nThis FREE event is your chance to build relationships and your business. Bring cards\, your best 60-second pitch\, and get ready to mingle! \n \n\n\n\n\n\n\n\n\n \n	\n		Share This!\n		FacebookTwitterLinkedInEmail
URL:https://southkcchamber.com/event/morning-mingle-with-community-assistance-coalition/
LOCATION:Community Assistance Coalition\, 6801 B Longview Road\, Kansas City\, Missouri\, 64314
CATEGORIES:Morning Mingle
END:VEVENT
END:VCALENDAR