BEGIN:VCALENDAR
VERSION:2.0
PRODID:-//South KC Chamber - ECPv6.15.18//NONSGML v1.0//EN
CALSCALE:GREGORIAN
METHOD:PUBLISH
X-WR-CALNAME:South KC Chamber
X-ORIGINAL-URL:https://southkcchamber.com
X-WR-CALDESC:Events for South KC Chamber
REFRESH-INTERVAL;VALUE=DURATION:PT1H
X-Robots-Tag:noindex
X-PUBLISHED-TTL:PT1H
BEGIN:VTIMEZONE
TZID:America/Chicago
BEGIN:DAYLIGHT
TZOFFSETFROM:-0600
TZOFFSETTO:-0500
TZNAME:CDT
DTSTART:20250309T080000
END:DAYLIGHT
BEGIN:STANDARD
TZOFFSETFROM:-0500
TZOFFSETTO:-0600
TZNAME:CST
DTSTART:20251102T070000
END:STANDARD
BEGIN:DAYLIGHT
TZOFFSETFROM:-0600
TZOFFSETTO:-0500
TZNAME:CDT
DTSTART:20260308T080000
END:DAYLIGHT
BEGIN:STANDARD
TZOFFSETFROM:-0500
TZOFFSETTO:-0600
TZNAME:CST
DTSTART:20261101T070000
END:STANDARD
BEGIN:DAYLIGHT
TZOFFSETFROM:-0600
TZOFFSETTO:-0500
TZNAME:CDT
DTSTART:20270314T080000
END:DAYLIGHT
BEGIN:STANDARD
TZOFFSETFROM:-0500
TZOFFSETTO:-0600
TZNAME:CST
DTSTART:20271107T070000
END:STANDARD
END:VTIMEZONE
BEGIN:VEVENT
DTSTART;TZID=America/Chicago:20261006T080000
DTEND;TZID=America/Chicago:20261006T090000
DTSTAMP:20260424T125841
CREATED:20260409T200514Z
LAST-MODIFIED:20260409T200516Z
UID:6238-1791273600-1791277200@southkcchamber.com
SUMMARY:Morning Mingle with Hickman Mills School District
DESCRIPTION:  \nStart your morning with coffee\, conversation\, and meaningful connections with fellow Chamber members and guests. \nThis casual networking event is a great way to build relationships\, share your business story and strengthen our South KC community. Hickman Mills School District will host this Mingle.  Check back for the exact location.   \nThis FREE event is your chance to build relationships and your business. Bring cards\, your best 60-second pitch\, and get ready to mingle! \n \n\n\n\n\n\n\n\n\n \n	\n		Share This!\n		FacebookTwitterLinkedInEmail
URL:https://southkcchamber.com/event/morning-mingle-with-hickman-mills-school-district-2/
LOCATION:TBD in Hickman Mills School District
CATEGORIES:Morning Mingle
END:VEVENT
BEGIN:VEVENT
DTSTART;TZID=America/Chicago:20261021T080000
DTEND;TZID=America/Chicago:20261021T090000
DTSTAMP:20260424T125841
CREATED:20260409T195633Z
LAST-MODIFIED:20260409T195636Z
UID:6236-1792569600-1792573200@southkcchamber.com
SUMMARY:Morning Mingle with Judith Unruh\, South KC Real Estate Specialist with Lettiann & Associates Real Estate Services
DESCRIPTION:Start your morning with coffee\, conversation\, and meaningful connections with fellow Chamber members and guests. \nThis casual networking event is a great way to build relationships\, share your business story and strengthen our South KC community. South KC Real Estate Specialist\, Judith Unruh with Lettiann & Associates is excited to host this Mingle at Serendipity Labs and share what’s happening in the real estate market. \nThis FREE event is your chance to build relationships and your business. Bring cards\, your best 60-second pitch\, and get ready to mingle! \n \n\nShare This!\n\nFacebookTwitterLinkedInEmail
URL:https://southkcchamber.com/event/morning-mingle-with-judith-unruh-south-kc-real-estate-specialist-with-lettiann-associates-real-estate-services/
LOCATION:MO
CATEGORIES:Morning Mingle
END:VEVENT
END:VCALENDAR