BEGIN:VCALENDAR
VERSION:2.0
PRODID:-//South KC Chamber - ECPv6.15.18//NONSGML v1.0//EN
CALSCALE:GREGORIAN
METHOD:PUBLISH
X-WR-CALNAME:South KC Chamber
X-ORIGINAL-URL:https://southkcchamber.com
X-WR-CALDESC:Events for South KC Chamber
REFRESH-INTERVAL;VALUE=DURATION:PT1H
X-Robots-Tag:noindex
X-PUBLISHED-TTL:PT1H
BEGIN:VTIMEZONE
TZID:America/Chicago
BEGIN:DAYLIGHT
TZOFFSETFROM:-0600
TZOFFSETTO:-0500
TZNAME:CDT
DTSTART:20250309T080000
END:DAYLIGHT
BEGIN:STANDARD
TZOFFSETFROM:-0500
TZOFFSETTO:-0600
TZNAME:CST
DTSTART:20251102T070000
END:STANDARD
BEGIN:DAYLIGHT
TZOFFSETFROM:-0600
TZOFFSETTO:-0500
TZNAME:CDT
DTSTART:20260308T080000
END:DAYLIGHT
BEGIN:STANDARD
TZOFFSETFROM:-0500
TZOFFSETTO:-0600
TZNAME:CST
DTSTART:20261101T070000
END:STANDARD
BEGIN:DAYLIGHT
TZOFFSETFROM:-0600
TZOFFSETTO:-0500
TZNAME:CDT
DTSTART:20270314T080000
END:DAYLIGHT
BEGIN:STANDARD
TZOFFSETFROM:-0500
TZOFFSETTO:-0600
TZNAME:CST
DTSTART:20271107T070000
END:STANDARD
END:VTIMEZONE
BEGIN:VEVENT
DTSTART;TZID=America/Chicago:20260916T080000
DTEND;TZID=America/Chicago:20260916T090000
DTSTAMP:20260424T110407
CREATED:20260409T192738Z
LAST-MODIFIED:20260409T192829Z
UID:6233-1789545600-1789549200@southkcchamber.com
SUMMARY:Morning Mingle with Edward Jones Investments Brian Stone
DESCRIPTION:Start your morning with coffee\, conversation\, and meaningful connections with fellow Chamber members and guests. \nThis casual networking event is a great way to build relationships\, share your business story\, strengthen our South KC community\, and learn about the markets and the services Financial Advisor Brian Stone with Edward Jones can provide.   \nThis FREE event is your chance to build relationships and your business. Bring cards\, your best 60-second pitch\, and get ready to mingle! \n \n	\n		Share This!\n		FacebookTwitterLinkedInEmail
URL:https://southkcchamber.com/event/morning-mingle-with-edward-jones-investments-brian-stone/
LOCATION:Edward Jones – Brian Jones\, 800 E. 101st Terrace\, Kansas City\, MO\, 64131\, United States
CATEGORIES:Morning Mingle
END:VEVENT
END:VCALENDAR