BEGIN:VCALENDAR
VERSION:2.0
PRODID:-//South KC Chamber - ECPv6.15.18//NONSGML v1.0//EN
CALSCALE:GREGORIAN
METHOD:PUBLISH
X-ORIGINAL-URL:https://southkcchamber.com
X-WR-CALDESC:Events for South KC Chamber
REFRESH-INTERVAL;VALUE=DURATION:PT1H
X-Robots-Tag:noindex
X-PUBLISHED-TTL:PT1H
BEGIN:VTIMEZONE
TZID:America/Chicago
BEGIN:DAYLIGHT
TZOFFSETFROM:-0600
TZOFFSETTO:-0500
TZNAME:CDT
DTSTART:20250309T080000
END:DAYLIGHT
BEGIN:STANDARD
TZOFFSETFROM:-0500
TZOFFSETTO:-0600
TZNAME:CST
DTSTART:20251102T070000
END:STANDARD
BEGIN:DAYLIGHT
TZOFFSETFROM:-0600
TZOFFSETTO:-0500
TZNAME:CDT
DTSTART:20260308T080000
END:DAYLIGHT
BEGIN:STANDARD
TZOFFSETFROM:-0500
TZOFFSETTO:-0600
TZNAME:CST
DTSTART:20261101T070000
END:STANDARD
BEGIN:DAYLIGHT
TZOFFSETFROM:-0600
TZOFFSETTO:-0500
TZNAME:CDT
DTSTART:20270314T080000
END:DAYLIGHT
BEGIN:STANDARD
TZOFFSETFROM:-0500
TZOFFSETTO:-0600
TZNAME:CST
DTSTART:20271107T070000
END:STANDARD
END:VTIMEZONE
BEGIN:VEVENT
DTSTART;TZID=America/Chicago:20260707T080000
DTEND;TZID=America/Chicago:20260707T090000
DTSTAMP:20260424T073314
CREATED:20260309T204410Z
LAST-MODIFIED:20260409T154011Z
UID:6111-1783411200-1783414800@southkcchamber.com
SUMMARY:Morning Mingle with Veterans Community Project
DESCRIPTION:  \nStart your morning with coffee\, conversation\, and meaningful connections with fellow Chamber members and guests. \nThis casual networking event is a great way to build relationships\, share your business story\, strengthen our South KC community\, and learn more about the Veterans Community Project and the important work they are doing in our community.   \nThis FREE event is your chance to build relationships and your business. Bring cards\, your best 60-second pitch\, and get ready to mingle! \n \n\n\n\n\n\n\n\n\n \n	\n		Share This!\n		FacebookTwitterLinkedInEmail
URL:https://southkcchamber.com/event/morning-mingle-with-veterans-community-project/
LOCATION:Veterans Community Project\, 8825 Troost Avenue\, Kansas City\, Missouri\, 64131
CATEGORIES:Morning Mingle
END:VEVENT
BEGIN:VEVENT
DTSTART;TZID=America/Chicago:20260715T080000
DTEND;TZID=America/Chicago:20260715T090000
DTSTAMP:20260424T073314
CREATED:20260409T155511Z
LAST-MODIFIED:20260409T160853Z
UID:6225-1784102400-1784106000@southkcchamber.com
SUMMARY:Morning Mingle with Armour Oaks Senior Living Community
DESCRIPTION:Start your morning with coffee\, conversation\, and meaningful connections with fellow Chamber members and guests. \nThis casual networking event is a great way to build relationships\, share your business story\, strengthen our South KC community\, and learn more about Armour Oaks Senior Living Community.   \nThis FREE event is your chance to build relationships and your business. Bring cards\, your best 60-second pitch\, and get ready to mingle! \n \n\nShare This!\n\nFacebookTwitterLinkedInEmail
URL:https://southkcchamber.com/event/morning-mingle-with-armour-oaks-senior-living-community/
LOCATION:Armour Oaks\, 8100 Wornall Road\, Kansas City\, MO\, 64114\, United States
CATEGORIES:Morning Mingle
END:VEVENT
END:VCALENDAR