BEGIN:VCALENDAR
VERSION:2.0
PRODID:-//South KC Chamber - ECPv6.15.18//NONSGML v1.0//EN
CALSCALE:GREGORIAN
METHOD:PUBLISH
X-WR-CALNAME:South KC Chamber
X-ORIGINAL-URL:https://southkcchamber.com
X-WR-CALDESC:Events for South KC Chamber
REFRESH-INTERVAL;VALUE=DURATION:PT1H
X-Robots-Tag:noindex
X-PUBLISHED-TTL:PT1H
BEGIN:VTIMEZONE
TZID:America/Chicago
BEGIN:DAYLIGHT
TZOFFSETFROM:-0600
TZOFFSETTO:-0500
TZNAME:CDT
DTSTART:20250309T080000
END:DAYLIGHT
BEGIN:STANDARD
TZOFFSETFROM:-0500
TZOFFSETTO:-0600
TZNAME:CST
DTSTART:20251102T070000
END:STANDARD
BEGIN:DAYLIGHT
TZOFFSETFROM:-0600
TZOFFSETTO:-0500
TZNAME:CDT
DTSTART:20260308T080000
END:DAYLIGHT
BEGIN:STANDARD
TZOFFSETFROM:-0500
TZOFFSETTO:-0600
TZNAME:CST
DTSTART:20261101T070000
END:STANDARD
BEGIN:DAYLIGHT
TZOFFSETFROM:-0600
TZOFFSETTO:-0500
TZNAME:CDT
DTSTART:20270314T080000
END:DAYLIGHT
BEGIN:STANDARD
TZOFFSETFROM:-0500
TZOFFSETTO:-0600
TZNAME:CST
DTSTART:20271107T070000
END:STANDARD
END:VTIMEZONE
BEGIN:VEVENT
DTSTART;TZID=America/Chicago:20260203T080000
DTEND;TZID=America/Chicago:20260203T090000
DTSTAMP:20260424T060551
CREATED:20251223T194459Z
LAST-MODIFIED:20251223T194501Z
UID:6042-1770105600-1770109200@southkcchamber.com
SUMMARY:Morning Mingle at Blessings Abound
DESCRIPTION:Start your morning with coffee\, conversation\, and meaningful connections with fellow Chamber members and guests. \nThis casual networking event is a great way to build relationships\, share your business story\, strengthen our South KC community\, and learn more about Blessings Abound and the great work they are doing in our community. Blessings Abound Thrift Store is a Christian nonprofit serving the Kansas City metro by selling and recycling donated merchandise to provide aid to those in need.  \nThis FREE event is your chance to build relationships and your business. Bring cards\, your best 30-second pitch\, and get ready to mingle! \n	\n		Share This!\n		FacebookTwitterLinkedInEmail
URL:https://southkcchamber.com/event/morning-mingle-at-blessings-abound/
LOCATION:MO
CATEGORIES:Morning Mingle
END:VEVENT
BEGIN:VEVENT
DTSTART;TZID=America/Chicago:20260218T080000
DTEND;TZID=America/Chicago:20260218T090000
DTSTAMP:20260424T060551
CREATED:20260128T183950Z
LAST-MODIFIED:20260128T184046Z
UID:6063-1771401600-1771405200@southkcchamber.com
SUMMARY:Morning Mingle at Alexa Barkley State Farm Insurance sponsored by Martin City CID
DESCRIPTION:Start your morning with coffee\, conversation\, and meaningful connections with fellow Chamber members and guests. \nThis casual networking event is a great way to build relationships\, share your business story\, strengthen our South KC community. \nThis FREE event is your chance to build relationships and your business. Bring cards\, your best 30-second pitch\, and get ready to mingle! \n	\n		Share This!\n		FacebookTwitterLinkedInEmail
URL:https://southkcchamber.com/event/morning-mingle-at-alexa-barkley-state-farm-insurance/
LOCATION:Alexa Barkley State Farm\, 500 E 135th Street\, Kansas City\, 64145\, United States
CATEGORIES:Morning Mingle
END:VEVENT
END:VCALENDAR