BEGIN:VCALENDAR
VERSION:2.0
PRODID:-//South KC Chamber - ECPv6.15.18//NONSGML v1.0//EN
CALSCALE:GREGORIAN
METHOD:PUBLISH
X-WR-CALNAME:South KC Chamber
X-ORIGINAL-URL:https://southkcchamber.com
X-WR-CALDESC:Events for South KC Chamber
REFRESH-INTERVAL;VALUE=DURATION:PT1H
X-Robots-Tag:noindex
X-PUBLISHED-TTL:PT1H
BEGIN:VTIMEZONE
TZID:America/Chicago
BEGIN:DAYLIGHT
TZOFFSETFROM:-0600
TZOFFSETTO:-0500
TZNAME:CDT
DTSTART:20240310T080000
END:DAYLIGHT
BEGIN:STANDARD
TZOFFSETFROM:-0500
TZOFFSETTO:-0600
TZNAME:CST
DTSTART:20241103T070000
END:STANDARD
BEGIN:DAYLIGHT
TZOFFSETFROM:-0600
TZOFFSETTO:-0500
TZNAME:CDT
DTSTART:20250309T080000
END:DAYLIGHT
BEGIN:STANDARD
TZOFFSETFROM:-0500
TZOFFSETTO:-0600
TZNAME:CST
DTSTART:20251102T070000
END:STANDARD
BEGIN:DAYLIGHT
TZOFFSETFROM:-0600
TZOFFSETTO:-0500
TZNAME:CDT
DTSTART:20260308T080000
END:DAYLIGHT
BEGIN:STANDARD
TZOFFSETFROM:-0500
TZOFFSETTO:-0600
TZNAME:CST
DTSTART:20261101T070000
END:STANDARD
END:VTIMEZONE
BEGIN:VEVENT
DTSTART;TZID=America/Chicago:20251111T080000
DTEND;TZID=America/Chicago:20251111T090000
DTSTAMP:20260424T113509
CREATED:20241113T150721Z
LAST-MODIFIED:20251103T160817Z
UID:5698-1762848000-1762851600@southkcchamber.com
SUMMARY:Morning Mingle at Community Blood Center
DESCRIPTION:Join us at the Community Blood Center for coffee and networking\, and learn how giving blood saves lives. \nEnjoy samples of iron-rich foods recommended to help support an easy donation. The center will be open and welcoming donors as we kick off the Chamber’s Week of Giving Blood Drive. When you give\, you’re truly saving your community – what better way to give back! \nCBC supplies blood to 97% of hospitals in Greater KC\, so your donation directly impacts our community. \nThis FREE event is a great way to build relationships—bring your business cards\, your short pitch\, and get ready to mingle! \n \n	\n		Share This!\n		FacebookTwitterLinkedInEmail
URL:https://southkcchamber.com/event/november-morning-mingle-2025/
LOCATION:Community Blood Center\, 4040 Main Street\, Kansas City\, Missouri\, 64111
CATEGORIES:Morning Mingle
END:VEVENT
END:VCALENDAR