BEGIN:VCALENDAR
VERSION:2.0
PRODID:-//South KC Chamber - ECPv6.15.18//NONSGML v1.0//EN
CALSCALE:GREGORIAN
METHOD:PUBLISH
X-ORIGINAL-URL:https://southkcchamber.com
X-WR-CALDESC:Events for South KC Chamber
REFRESH-INTERVAL;VALUE=DURATION:PT1H
X-Robots-Tag:noindex
X-PUBLISHED-TTL:PT1H
BEGIN:VTIMEZONE
TZID:America/Chicago
BEGIN:DAYLIGHT
TZOFFSETFROM:-0600
TZOFFSETTO:-0500
TZNAME:CDT
DTSTART:20240310T080000
END:DAYLIGHT
BEGIN:STANDARD
TZOFFSETFROM:-0500
TZOFFSETTO:-0600
TZNAME:CST
DTSTART:20241103T070000
END:STANDARD
BEGIN:DAYLIGHT
TZOFFSETFROM:-0600
TZOFFSETTO:-0500
TZNAME:CDT
DTSTART:20250309T080000
END:DAYLIGHT
BEGIN:STANDARD
TZOFFSETFROM:-0500
TZOFFSETTO:-0600
TZNAME:CST
DTSTART:20251102T070000
END:STANDARD
BEGIN:DAYLIGHT
TZOFFSETFROM:-0600
TZOFFSETTO:-0500
TZNAME:CDT
DTSTART:20260308T080000
END:DAYLIGHT
BEGIN:STANDARD
TZOFFSETFROM:-0500
TZOFFSETTO:-0600
TZNAME:CST
DTSTART:20261101T070000
END:STANDARD
END:VTIMEZONE
BEGIN:VEVENT
DTSTART;TZID=America/Chicago:20251007T080000
DTEND;TZID=America/Chicago:20251007T090000
DTSTAMP:20260424T131936
CREATED:20241113T150643Z
LAST-MODIFIED:20250925T155420Z
UID:5697-1759824000-1759827600@southkcchamber.com
SUMMARY:Morning Mingle at Cornerstones of Care
DESCRIPTION:Start your morning with purpose and deepen your understanding of impactful community work with the Chamber’s Morning Mingle networking event at Cornerstones of Care. \nNetwork\, build relationships and learn how Cornerstones of Care serves children and families. From trauma-informed therapy and youth support to community training\, and so much more\, their work is transforming lives. \nThis FREE networking event is your chance to grow your circle and your business—so bring your business cards\, your best 30-second pitch\, and get ready to mingle —you never know who you’ll meet. \n \n	\n		Share This!\n		FacebookTwitterLinkedInEmail
URL:https://southkcchamber.com/event/october-morning-mingle-2025/
LOCATION:Cornerstones of Care – Gillis Campus\, 8150 Wornall Road\, Kansas City\, MO\, 64114\, United States
CATEGORIES:Morning Mingle
END:VEVENT
BEGIN:VEVENT
DTSTART;TZID=America/Chicago:20251015T080000
DTEND;TZID=America/Chicago:20251015T090000
DTSTAMP:20260424T131936
CREATED:20251006T162100Z
LAST-MODIFIED:20251006T174823Z
UID:5987-1760515200-1760518800@southkcchamber.com
SUMMARY:Morning Mingle at Avila University - Goppert Performing Arts Theatre
DESCRIPTION:  \nStart your day on stage—at least the networking kind! \nJoin us at Avila University’s Goppert Performing Arts Center to meet fellow professionals\, trade ideas\, and grow your circle. Discover Avila University’s values-based education\, small classes with expert faculty\, real-world experience through internships and research\, and a community rooted in belonging—right here in South Kansas City. \nThis FREE networking event is your chance to grow your circle and your business—so bring your business cards\, your best 30-second pitch\, and get ready to mingle —you never know who you’ll meet. \n \n	\n		Share This!\n		FacebookTwitterLinkedInEmail
URL:https://southkcchamber.com/event/morning-mingle-at-avila-university-goppert-performing-arts-theater/
LOCATION:Avila University – Goppert Performing Arts Theatre\, 11901 Wornall Road\, Kansas City\, MO\, 64145\, United States
CATEGORIES:Morning Mingle
END:VEVENT
END:VCALENDAR