BEGIN:VCALENDAR
VERSION:2.0
PRODID:-//South KC Chamber - ECPv6.15.18//NONSGML v1.0//EN
CALSCALE:GREGORIAN
METHOD:PUBLISH
X-WR-CALNAME:South KC Chamber
X-ORIGINAL-URL:https://southkcchamber.com
X-WR-CALDESC:Events for South KC Chamber
REFRESH-INTERVAL;VALUE=DURATION:PT1H
X-Robots-Tag:noindex
X-PUBLISHED-TTL:PT1H
BEGIN:VTIMEZONE
TZID:America/Chicago
BEGIN:DAYLIGHT
TZOFFSETFROM:-0600
TZOFFSETTO:-0500
TZNAME:CDT
DTSTART:20240310T080000
END:DAYLIGHT
BEGIN:STANDARD
TZOFFSETFROM:-0500
TZOFFSETTO:-0600
TZNAME:CST
DTSTART:20241103T070000
END:STANDARD
BEGIN:DAYLIGHT
TZOFFSETFROM:-0600
TZOFFSETTO:-0500
TZNAME:CDT
DTSTART:20250309T080000
END:DAYLIGHT
BEGIN:STANDARD
TZOFFSETFROM:-0500
TZOFFSETTO:-0600
TZNAME:CST
DTSTART:20251102T070000
END:STANDARD
BEGIN:DAYLIGHT
TZOFFSETFROM:-0600
TZOFFSETTO:-0500
TZNAME:CDT
DTSTART:20260308T080000
END:DAYLIGHT
BEGIN:STANDARD
TZOFFSETFROM:-0500
TZOFFSETTO:-0600
TZNAME:CST
DTSTART:20261101T070000
END:STANDARD
END:VTIMEZONE
BEGIN:VEVENT
DTSTART;TZID=America/Chicago:20250805T080000
DTEND;TZID=America/Chicago:20250805T090000
DTSTAMP:20260424T164319
CREATED:20241113T150530Z
LAST-MODIFIED:20250724T145227Z
UID:5695-1754380800-1754384400@southkcchamber.com
SUMMARY:Morning Mingle at The Mill Cafe with Hickman Mills School District
DESCRIPTION:Share This!\n		FacebookTwitterLinkedInEmail
URL:https://southkcchamber.com/event/august-morning-mingle-2025/
LOCATION:The Mill Cafe\, 10301 Hickman Mills Drive\, Kansas City\, 64137\, United States
CATEGORIES:Morning Mingle
END:VEVENT
BEGIN:VEVENT
DTSTART;TZID=America/Chicago:20250820T080000
DTEND;TZID=America/Chicago:20250820T090000
DTSTAMP:20260424T164319
CREATED:20250715T182336Z
LAST-MODIFIED:20250715T182818Z
UID:5883-1755676800-1755680400@southkcchamber.com
SUMMARY:Morning Mingle with Serve the World Charities at Evangel Church
DESCRIPTION:  \n \n	\n		Share This!\n		FacebookTwitterLinkedInEmail
URL:https://southkcchamber.com/event/morning-mingle-with-hickman-mills-school-district/
LOCATION:Evangel Church\, 1414 E 103rd Street\, Kansas City\, Missouri\, 64156
CATEGORIES:Morning Mingle
END:VEVENT
END:VCALENDAR