BEGIN:VCALENDAR
VERSION:2.0
PRODID:-//South KC Chamber - ECPv6.15.18//NONSGML v1.0//EN
CALSCALE:GREGORIAN
METHOD:PUBLISH
X-ORIGINAL-URL:https://southkcchamber.com
X-WR-CALDESC:Events for South KC Chamber
REFRESH-INTERVAL;VALUE=DURATION:PT1H
X-Robots-Tag:noindex
X-PUBLISHED-TTL:PT1H
BEGIN:VTIMEZONE
TZID:America/Chicago
BEGIN:DAYLIGHT
TZOFFSETFROM:-0600
TZOFFSETTO:-0500
TZNAME:CDT
DTSTART:20240310T080000
END:DAYLIGHT
BEGIN:STANDARD
TZOFFSETFROM:-0500
TZOFFSETTO:-0600
TZNAME:CST
DTSTART:20241103T070000
END:STANDARD
BEGIN:DAYLIGHT
TZOFFSETFROM:-0600
TZOFFSETTO:-0500
TZNAME:CDT
DTSTART:20250309T080000
END:DAYLIGHT
BEGIN:STANDARD
TZOFFSETFROM:-0500
TZOFFSETTO:-0600
TZNAME:CST
DTSTART:20251102T070000
END:STANDARD
BEGIN:DAYLIGHT
TZOFFSETFROM:-0600
TZOFFSETTO:-0500
TZNAME:CDT
DTSTART:20260308T080000
END:DAYLIGHT
BEGIN:STANDARD
TZOFFSETFROM:-0500
TZOFFSETTO:-0600
TZNAME:CST
DTSTART:20261101T070000
END:STANDARD
END:VTIMEZONE
BEGIN:VEVENT
DTSTART;TZID=America/Chicago:20250122T080000
DTEND;TZID=America/Chicago:20250122T090000
DTSTAMP:20260425T062925
CREATED:20250102T201611Z
LAST-MODIFIED:20250115T175732Z
UID:5732-1737532800-1737536400@southkcchamber.com
SUMMARY:January 22 Morning Mingle 2025
DESCRIPTION:Jan 22\n\n\n\n\n\n\n\nJanuary Morning Mingle\n\n\n\n\nJoin us to build new connections\, catch up with old and test drive the new Harry S. Truman Training Room. \nImagine the possibilities for your next event\, training or get together. With multiple configurations available for up to 80 people\, state of the art technology to accommodate in-person and virtual events\, and reasonable rates\, you’ll want to reserve the space immediately. \nEnjoy connecting over coffee and a continental breakfast. \nBring business cards and your 30 second “elevator pitch” to share during our group share. \nWe look forward to seeing you on the 22nd for this FREE mingle! \n\n\n\n\n\n\n\n\n\n\n\n\n\n\n\n\n\n\n\n\n\n\n\n\n\n\n\n\n\n\n\n\n\n\n\nSouth Kansas City Chamber of Commerce\n1300 E 94th Street\, Suite 100\, Kansas City\, MO 64131\nHarry S. Truman Training Room\n\n\n\n\n\n\n\n\n\n\n\n\n\n\n\n\n\n\n\n\n\n\n\nJan 22\, 2025 08:00am – Jan 22\, 2025 09:00am \nAdd to Google · Outlook Web · Outlook Mobile · Yahoo · iCal \n  \n\n\n\n\n	\n		Share This!\n		FacebookTwitterLinkedInEmail
URL:https://southkcchamber.com/event/january-22-morning-mingle-2025/
LOCATION:The Harry S. Truman Meeting Room at the South KC Chamber of Commerce\, 1300 E 94th Street\, Suite 100\, Kansas City\, MO\, 64131\, United States
CATEGORIES:Morning Mingle
END:VEVENT
END:VCALENDAR