BEGIN:VCALENDAR
VERSION:2.0
PRODID:-//South KC Chamber - ECPv6.15.18//NONSGML v1.0//EN
CALSCALE:GREGORIAN
METHOD:PUBLISH
X-WR-CALNAME:South KC Chamber
X-ORIGINAL-URL:https://southkcchamber.com
X-WR-CALDESC:Events for South KC Chamber
REFRESH-INTERVAL;VALUE=DURATION:PT1H
X-Robots-Tag:noindex
X-PUBLISHED-TTL:PT1H
BEGIN:VTIMEZONE
TZID:America/Chicago
BEGIN:DAYLIGHT
TZOFFSETFROM:-0600
TZOFFSETTO:-0500
TZNAME:CDT
DTSTART:20250309T080000
END:DAYLIGHT
BEGIN:STANDARD
TZOFFSETFROM:-0500
TZOFFSETTO:-0600
TZNAME:CST
DTSTART:20251102T070000
END:STANDARD
BEGIN:DAYLIGHT
TZOFFSETFROM:-0600
TZOFFSETTO:-0500
TZNAME:CDT
DTSTART:20260308T080000
END:DAYLIGHT
BEGIN:STANDARD
TZOFFSETFROM:-0500
TZOFFSETTO:-0600
TZNAME:CST
DTSTART:20261101T070000
END:STANDARD
BEGIN:DAYLIGHT
TZOFFSETFROM:-0600
TZOFFSETTO:-0500
TZNAME:CDT
DTSTART:20270314T080000
END:DAYLIGHT
BEGIN:STANDARD
TZOFFSETFROM:-0500
TZOFFSETTO:-0600
TZNAME:CST
DTSTART:20271107T070000
END:STANDARD
END:VTIMEZONE
BEGIN:VEVENT
DTSTART;TZID=America/Chicago:20260605T080000
DTEND;TZID=America/Chicago:20260605T093000
DTSTAMP:20260422T225645
CREATED:20260305T184746Z
LAST-MODIFIED:20260305T185136Z
UID:6092-1780646400-1780651800@southkcchamber.com
SUMMARY:June Legislative Breakfast
DESCRIPTION:Knowledge is power—join the Grandview and South KC Chambers for a Joint Legislative Breakfast.  \nEnjoy coffee and donuts or pastries.  \nThe Grandview and South Kansas City Chambers host this joint breakfast during the legislative session to help our members and the public stay updated. \nThese breakfasts are free and open to the public. Bring a friend and start your day with an update of what’s going on in your community and state. \n\n\n\n\n\n\n\n\n\n\n\n\n\n\n\n\n\n\n\n\n\n\n\n\n\n\n\n\n\n\n\n\n\n\n\n\n\n\n\nSouth Patrol Station Kansas City Police Department9701 Marion Park Dr\, KCMO\, MO 64137View on map \n\n\n\n\n\n\n\n\n\n\n\n\n\n\n\n\n\n\n\n\n\n\n\n\, June 5\, 2026 8:00am – 9:30am \nAdd to Google · Outlook Web · Outlook Mobile · Yahoo · iCal \n\n\n\n\n \n	\n		Share This!\n		FacebookTwitterLinkedInEmail
URL:https://southkcchamber.com/event/june-legislative-breakfast/
LOCATION:KCPD – South Patrol Division\, 9701 Marion Park Drive\, Kansas City\, MO\, 64137\, United States
CATEGORIES:Governmental Affairs
END:VEVENT
END:VCALENDAR