BEGIN:VCALENDAR
VERSION:2.0
PRODID:-//South KC Chamber - ECPv6.15.18//NONSGML v1.0//EN
CALSCALE:GREGORIAN
METHOD:PUBLISH
X-ORIGINAL-URL:https://southkcchamber.com
X-WR-CALDESC:Events for South KC Chamber
REFRESH-INTERVAL;VALUE=DURATION:PT1H
X-Robots-Tag:noindex
X-PUBLISHED-TTL:PT1H
BEGIN:VTIMEZONE
TZID:America/Chicago
BEGIN:DAYLIGHT
TZOFFSETFROM:-0600
TZOFFSETTO:-0500
TZNAME:CDT
DTSTART:20250309T080000
END:DAYLIGHT
BEGIN:STANDARD
TZOFFSETFROM:-0500
TZOFFSETTO:-0600
TZNAME:CST
DTSTART:20251102T070000
END:STANDARD
BEGIN:DAYLIGHT
TZOFFSETFROM:-0600
TZOFFSETTO:-0500
TZNAME:CDT
DTSTART:20260308T080000
END:DAYLIGHT
BEGIN:STANDARD
TZOFFSETFROM:-0500
TZOFFSETTO:-0600
TZNAME:CST
DTSTART:20261101T070000
END:STANDARD
BEGIN:DAYLIGHT
TZOFFSETFROM:-0600
TZOFFSETTO:-0500
TZNAME:CDT
DTSTART:20270314T080000
END:DAYLIGHT
BEGIN:STANDARD
TZOFFSETFROM:-0500
TZOFFSETTO:-0600
TZNAME:CST
DTSTART:20271107T070000
END:STANDARD
END:VTIMEZONE
BEGIN:VEVENT
DTSTART;TZID=America/Chicago:20260206T080000
DTEND;TZID=America/Chicago:20260206T093000
DTSTAMP:20260422T225624
CREATED:20251222T200041Z
LAST-MODIFIED:20251222T201416Z
UID:6040-1770364800-1770370200@southkcchamber.com
SUMMARY:February Legislative Breakfast
DESCRIPTION:Knowledge is power—join the Grandview and South KC Chambers for a Joint Legislative Breakfast.  \nEnjoy coffee and donuts or pastries.  \nThe Grandview and South Kansas City Chambers host this joint breakfast during the legislative session to help our members and the public stay updated. \nThese breakfasts are free and open to the public. Bring a friend and start your day with an update of what’s going on in your community and state. \n\n\n\n\n\n\n\n\n\n\n\n\n\n\n\n\n\n\n\n\n\n\n\n\n\n\n\n\n\n\n\n\n\n\n\n\n\n\n\nSouth Patrol Station Kansas City Police Department9701 Marion Park Dr\, KCMO\, MO 64137View on map \n\n\n\n\n\n\n\n\n\n\n\n\n\n\n\n\n\n\n\n\n \n\n\n\nFebruary 6\, 2026 8:00am – 9:30am \nAdd to Google · Outlook Web · Outlook Mobile · Yahoo · iCal \n\n\n\n\n \n	\n		Share This!\n		FacebookTwitterLinkedInEmail
URL:https://southkcchamber.com/event/february-legislative-breakfast-2/
LOCATION:KCPD – South Patrol Division\, 9701 Marion Park Drive\, Kansas City\, MO\, 64137\, United States
CATEGORIES:Governmental Affairs
END:VEVENT
BEGIN:VEVENT
DTSTART;TZID=America/Chicago:20260224T100000
DTEND;TZID=America/Chicago:20260224T170000
DTSTAMP:20260422T225624
CREATED:20260128T164736Z
LAST-MODIFIED:20260128T165204Z
UID:6060-1771927200-1771952400@southkcchamber.com
SUMMARY:Jefferson City Legislative Advocacy Day
DESCRIPTION:  \n \nRegistration & Transportation: \n\nThe cost to attend is $30 per person and includes lunch.\nThe South KC Chamber is providing optional transportation via a group charter bus is available for an additional $30.  Or\, you may provide your own transportation.\nPlease register by Wednesday\, February 18\, 2026\n\n  \nJoin leaders and members from the Lee’s Summit\, Grandview\, South Kansas City\, Raytown\, Blue Springs\, Grain Valley\, Mid-America LGBT\, and Independence Chambers of Commerce for Legislative Advocacy Day in Jefferson City. (Attendees are responsible for their own transportation.) \nWhy Attend? \n\nMake a Difference: This is your chance to meet with your state legislators and discuss the issues that are important to your business and local economy.\nStay Informed: Hear from key policymakers and business leaders about the latest legislative developments and how they may impact your business.\nNetwork: Connect with fellow business owners and decision-makers from across Jackson County.\nShow Your Support: By participating in this event\, you are sending a strong message to Jefferson City that the Jackson County business community is united and ready to advocate for its interests.\n\n  \nDon’t miss this important opportunity to be a part of your business community’s advocacy efforts! Together\, we can make a difference! \n \n	\n		Share This!\n		FacebookTwitterLinkedInEmail
URL:https://southkcchamber.com/event/jefferson-city-legislative-advocacy-day-3/
LOCATION:MO
CATEGORIES:Governmental Affairs
END:VEVENT
END:VCALENDAR