BEGIN:VCALENDAR
VERSION:2.0
PRODID:-//South KC Chamber - ECPv6.15.18//NONSGML v1.0//EN
CALSCALE:GREGORIAN
METHOD:PUBLISH
X-WR-CALNAME:South KC Chamber
X-ORIGINAL-URL:https://southkcchamber.com
X-WR-CALDESC:Events for South KC Chamber
REFRESH-INTERVAL;VALUE=DURATION:PT1H
X-Robots-Tag:noindex
X-PUBLISHED-TTL:PT1H
BEGIN:VTIMEZONE
TZID:America/Chicago
BEGIN:DAYLIGHT
TZOFFSETFROM:-0600
TZOFFSETTO:-0500
TZNAME:CDT
DTSTART:20220313T080000
END:DAYLIGHT
BEGIN:STANDARD
TZOFFSETFROM:-0500
TZOFFSETTO:-0600
TZNAME:CST
DTSTART:20221106T070000
END:STANDARD
BEGIN:DAYLIGHT
TZOFFSETFROM:-0600
TZOFFSETTO:-0500
TZNAME:CDT
DTSTART:20230312T080000
END:DAYLIGHT
BEGIN:STANDARD
TZOFFSETFROM:-0500
TZOFFSETTO:-0600
TZNAME:CST
DTSTART:20231105T070000
END:STANDARD
BEGIN:DAYLIGHT
TZOFFSETFROM:-0600
TZOFFSETTO:-0500
TZNAME:CDT
DTSTART:20240310T080000
END:DAYLIGHT
BEGIN:STANDARD
TZOFFSETFROM:-0500
TZOFFSETTO:-0600
TZNAME:CST
DTSTART:20241103T070000
END:STANDARD
END:VTIMEZONE
BEGIN:VEVENT
DTSTART;TZID=America/Chicago:20230303T080000
DTEND;TZID=America/Chicago:20230303T093000
DTSTAMP:20260425T104819
CREATED:20230223T172246Z
LAST-MODIFIED:20230223T172246Z
UID:5044-1677830400-1677835800@southkcchamber.com
SUMMARY:March Legislative Breakfast
DESCRIPTION:  \n\n\n \nThe South KC and Grandview Chambers of Commerce invite you to join us for our March Legislative Breakfast. \n\n\nFriday\, March 3\, 2023\n8:00 a.m. – 9:30 a.m.\n\n\nLocation:\n\nKCPD – South Patrol Division \n9701 Marion Park Drive \nKansas City\, MO 64137 \n\n\n \n\nNo Cost to attend\nReservations requested by 3/2/2023 \nYou do not have to be a Chamber member to attend \n\n\nSponsored by:\n \n	\n		Share This!\n		FacebookTwitterLinkedInEmail
URL:https://southkcchamber.com/event/march-legislative-breakfast-2023/
LOCATION:KCPD – South Patrol Division\, 9701 Marion Park Drive\, Kansas City\, MO\, 64137\, United States
CATEGORIES:Governmental Affairs
END:VEVENT
BEGIN:VEVENT
DTSTART;TZID=America/Chicago:20230331T080000
DTEND;TZID=America/Chicago:20230331T093000
DTSTAMP:20260425T104819
CREATED:20230302T182332Z
LAST-MODIFIED:20230302T182332Z
UID:5091-1680249600-1680255000@southkcchamber.com
SUMMARY:April Legislative Breakfast
DESCRIPTION:  \n\n\n \nThe South KC and Grandview Chambers of Commerce invite you to join us for our April Legislative Breakfast. \n\n\nFriday\, March 31\, 2023\n8:00 a.m. – 9:30 a.m.\n\n\nLocation:\n\nKCPD – South Patrol Division \n9701 Marion Park Drive \nKansas City\, MO 64137 \n\n\n \n\nNo Cost to attend\nReservations requested by 3/30/2023 \nYou do not have to be a Chamber member to attend \n\n\nSponsored by:\n \n	\n		Share This!\n		FacebookTwitterLinkedInEmail
URL:https://southkcchamber.com/event/april-legislative-breakfast-3-31-2023/
LOCATION:KCPD – South Patrol Division\, 9701 Marion Park Drive\, Kansas City\, MO\, 64137\, United States
CATEGORIES:Governmental Affairs
END:VEVENT
END:VCALENDAR