BEGIN:VCALENDAR
VERSION:2.0
PRODID:-//South KC Chamber - ECPv6.15.18//NONSGML v1.0//EN
CALSCALE:GREGORIAN
METHOD:PUBLISH
X-WR-CALNAME:South KC Chamber
X-ORIGINAL-URL:https://southkcchamber.com
X-WR-CALDESC:Events for South KC Chamber
REFRESH-INTERVAL;VALUE=DURATION:PT1H
X-Robots-Tag:noindex
X-PUBLISHED-TTL:PT1H
BEGIN:VTIMEZONE
TZID:America/Chicago
BEGIN:DAYLIGHT
TZOFFSETFROM:-0600
TZOFFSETTO:-0500
TZNAME:CDT
DTSTART:20220313T080000
END:DAYLIGHT
BEGIN:STANDARD
TZOFFSETFROM:-0500
TZOFFSETTO:-0600
TZNAME:CST
DTSTART:20221106T070000
END:STANDARD
BEGIN:DAYLIGHT
TZOFFSETFROM:-0600
TZOFFSETTO:-0500
TZNAME:CDT
DTSTART:20230312T080000
END:DAYLIGHT
BEGIN:STANDARD
TZOFFSETFROM:-0500
TZOFFSETTO:-0600
TZNAME:CST
DTSTART:20231105T070000
END:STANDARD
BEGIN:DAYLIGHT
TZOFFSETFROM:-0600
TZOFFSETTO:-0500
TZNAME:CDT
DTSTART:20240310T080000
END:DAYLIGHT
BEGIN:STANDARD
TZOFFSETFROM:-0500
TZOFFSETTO:-0600
TZNAME:CST
DTSTART:20241103T070000
END:STANDARD
END:VTIMEZONE
BEGIN:VEVENT
DTSTART;TZID=America/Chicago:20230203T080000
DTEND;TZID=America/Chicago:20230203T093000
DTSTAMP:20260425T123313
CREATED:20230112T193127Z
LAST-MODIFIED:20230112T193355Z
UID:5009-1675411200-1675416600@southkcchamber.com
SUMMARY:Legislative Breakfast - Marijuana in Missouri: Are Employers Ready for Change?
DESCRIPTION:The South KC and Grandview Chambers of Commerce invite you to our February Legislative Breakfast. \nOur Featured Speaker \n \n\n\nLauren M. Sobaski\nSPHR\, SHRM-SCP\n\nAttorney at Law \n\nFisher & Phillips LLP\n\n\n\nMarijuana in Missouri – Are Employers Ready for Change?\n\nOn November 8\, 2022\, Missouri voters approved Amendment 3\, amending Section 1 of Article XIV of the Missouri Constitution. Amendment 3 legalizes personal use of marijuana (also known as cannabis) by adults 21 and older\, allows individuals to petition for release from prison\, expunge certain arrests and conviction records of non-violent marijuana offenses\, and enacts a 6 percent tax on the retail price of recreational marijuana.\n\nAmendment 3 has notable legal changes for Missouri employers. This session will answer the top questions from Missouri employers about how the legalization of recreational marijuana may impact your business including – drug testing\, background checks\, managing your workforce\, and more!\nFriday\, February 3\, 2023\n8:00 a.m. – 9:30 a.m.\n\n\nLocation:\n\nKCPD – South Patrol Division \n9701 Marion Park Drive \nKansas City\, MO 64137 \n\n\n \n\nNo Cost to attend\nReservations requested by 2/2/2023 \nYou do not have to be a Chamber member to attend \n\n\nSponsored by:\n \n	\n		Share This!\n		FacebookTwitterLinkedInEmail
URL:https://southkcchamber.com/event/legislative-breakfast-marijuana-in-missouri-are-employers-ready-for-change/
LOCATION:KCPD – South Patrol Division\, 9701 Marion Park Drive\, Kansas City\, MO\, 64137\, United States
CATEGORIES:Governmental Affairs
END:VEVENT
BEGIN:VEVENT
DTSTART;TZID=America/Chicago:20230228T100000
DTEND;TZID=America/Chicago:20230228T170000
DTSTAMP:20260425T123313
CREATED:20230130T175530Z
LAST-MODIFIED:20230203T193017Z
UID:5025-1677578400-1677603600@southkcchamber.com
SUMMARY:Legislative Advocacy Day in Jefferson City
DESCRIPTION:Please join leaders and members from the Lee’s Summit\, Grandview\, South Kansas City\, Raytown\, Blue Springs\, Grain Valley Partnership\, Mid-America LGBT\, and Independence Chambers of Commerce for Legislative Advocacy Day in Jefferson City.\n\n\n\nTuesday\, February 28\, 2023\n10:00 A.M. – 5:00 P.M.\n\n\n\n\n\nLocation:\nTruman Building\n301 West High Street\, Conference Room CED720\nJefferson City\, MO 65102\nCost: \n$25.00/Person\nLunch will be provided\n\nReservation is required by Thursday\, February 23\, 2023\n\n(Click on the image below to view and print the schedule)\n\nCo-Hosted by:\n \n\n	\n		Share This!\n		FacebookTwitterLinkedInEmail
URL:https://southkcchamber.com/event/legislative-advocacy-day-in-jefferson-city-february-28-2023/
LOCATION:Truman Building\, 301 West High Street\, Jefferson City\, MO\, 65102\, United States
CATEGORIES:Governmental Affairs
END:VEVENT
END:VCALENDAR