BEGIN:VCALENDAR
VERSION:2.0
PRODID:-//South KC Chamber - ECPv6.15.18//NONSGML v1.0//EN
CALSCALE:GREGORIAN
METHOD:PUBLISH
X-WR-CALNAME:South KC Chamber
X-ORIGINAL-URL:https://southkcchamber.com
X-WR-CALDESC:Events for South KC Chamber
REFRESH-INTERVAL;VALUE=DURATION:PT1H
X-Robots-Tag:noindex
X-PUBLISHED-TTL:PT1H
BEGIN:VTIMEZONE
TZID:America/Chicago
BEGIN:DAYLIGHT
TZOFFSETFROM:-0600
TZOFFSETTO:-0500
TZNAME:CDT
DTSTART:20220313T080000
END:DAYLIGHT
BEGIN:STANDARD
TZOFFSETFROM:-0500
TZOFFSETTO:-0600
TZNAME:CST
DTSTART:20221106T070000
END:STANDARD
BEGIN:DAYLIGHT
TZOFFSETFROM:-0600
TZOFFSETTO:-0500
TZNAME:CDT
DTSTART:20230312T080000
END:DAYLIGHT
BEGIN:STANDARD
TZOFFSETFROM:-0500
TZOFFSETTO:-0600
TZNAME:CST
DTSTART:20231105T070000
END:STANDARD
BEGIN:DAYLIGHT
TZOFFSETFROM:-0600
TZOFFSETTO:-0500
TZNAME:CDT
DTSTART:20240310T080000
END:DAYLIGHT
BEGIN:STANDARD
TZOFFSETFROM:-0500
TZOFFSETTO:-0600
TZNAME:CST
DTSTART:20241103T070000
END:STANDARD
END:VTIMEZONE
BEGIN:VEVENT
DTSTART;TZID=America/Chicago:20230113T080000
DTEND;TZID=America/Chicago:20230113T093000
DTSTAMP:20260425T142348
CREATED:20221215T191029Z
LAST-MODIFIED:20230104T174948Z
UID:4992-1673596800-1673602200@southkcchamber.com
SUMMARY:Legislative Breakfast / 2nd Friday Meeting
DESCRIPTION:Join the South KC and Grandview Chambers of Commerce for our first 2023 Legislative Breakfast and keep up to date with local\, state\, and federal legislation.\n\n\nThis will be a joint breakfast with the 6th District’s 2nd Friday Meeting. Featuring Kevin McManus\, Mayor Pro Tem\, Councilman 6th District and Andrea Bough\, Councilwoman 6th District At-Large.\n\nWe will also hear from Leonard Jones\, Mayor of Grandview.\n\nFriday\, January 13\, 2023\n8:00 a.m. – 9:30 a.m.\n\n\nLocation:\n\nAvila University – Whitfield Center\n11901 Wornall Road \nKansas City\, MO 64145 \n\nCost is Free\nYou do not have to be a Chamber member to attend!\n\n \n\nReservations requested by 1/12/2023\n\n\n\n\nSponsored by:\n \nCohosted by:\n \n	\n		Share This!\n		FacebookTwitterLinkedInEmail
URL:https://southkcchamber.com/event/legislative-breakfast-2nd-friday-meeting-2023/
LOCATION:Avila University – Goppert Performing Arts Theatre\, 11901 Wornall Road\, Kansas City\, MO\, 64145\, United States
CATEGORIES:Governmental Affairs
END:VEVENT
END:VCALENDAR