BEGIN:VCALENDAR
VERSION:2.0
PRODID:-//South KC Chamber - ECPv6.15.18//NONSGML v1.0//EN
CALSCALE:GREGORIAN
METHOD:PUBLISH
X-WR-CALNAME:South KC Chamber
X-ORIGINAL-URL:https://southkcchamber.com
X-WR-CALDESC:Events for South KC Chamber
REFRESH-INTERVAL;VALUE=DURATION:PT1H
X-Robots-Tag:noindex
X-PUBLISHED-TTL:PT1H
BEGIN:VTIMEZONE
TZID:America/Chicago
BEGIN:DAYLIGHT
TZOFFSETFROM:-0600
TZOFFSETTO:-0500
TZNAME:CDT
DTSTART:20240310T080000
END:DAYLIGHT
BEGIN:STANDARD
TZOFFSETFROM:-0500
TZOFFSETTO:-0600
TZNAME:CST
DTSTART:20241103T070000
END:STANDARD
BEGIN:DAYLIGHT
TZOFFSETFROM:-0600
TZOFFSETTO:-0500
TZNAME:CDT
DTSTART:20250309T080000
END:DAYLIGHT
BEGIN:STANDARD
TZOFFSETFROM:-0500
TZOFFSETTO:-0600
TZNAME:CST
DTSTART:20251102T070000
END:STANDARD
BEGIN:DAYLIGHT
TZOFFSETFROM:-0600
TZOFFSETTO:-0500
TZNAME:CDT
DTSTART:20260308T080000
END:DAYLIGHT
BEGIN:STANDARD
TZOFFSETFROM:-0500
TZOFFSETTO:-0600
TZNAME:CST
DTSTART:20261101T070000
END:STANDARD
END:VTIMEZONE
BEGIN:VEVENT
DTSTART;TZID=America/Chicago:20250522T080000
DTEND;TZID=America/Chicago:20250522T100000
DTSTAMP:20260423T061534
CREATED:20250318T184905Z
LAST-MODIFIED:20250409T152217Z
UID:5797-1747900800-1747908000@southkcchamber.com
SUMMARY:Women's Leadership Breakfast
DESCRIPTION:Women’s Leadership Breakfast\nPresented by St. Joseph Medical Center \nInspiring. Empowering. Leading. \nAre you ready to lead boldly\, connect deeply\, and be inspired by the women changing the face of leadership in our community? \nThe South Kansas City Chamber of Commerce proudly invites you to the 2025 Women’s Leadership Breakfast\, presented by St. Joseph Medical Center — Thursday\, May 22 from 8:00 to 10:00 AM at the South KC Chamber Offices in the Harry S. Truman Training Room. \nThis is your opportunity to hear directly from five remarkable women CEOs and leaders\, each a proud member of the South KC Chamber\, who have paved unique paths to success and are ready to share their stories\, strategies\, and wisdom. \nYou’ll hear from: \n\nJodi Fincher\, CEO\, St. Joseph Medical Center\nKathryn Mahoney\, President\, Wayside Waifs\nBrandy McCombs\, Founder\, IBC Carpentry LLC & IBC Traffic\, Inc.\nKaren Noel\, CEO\, Catholic Charities\nMerideth Rose\, President & CEO\, Cornerstones of Care\n\nOver breakfast and in great company\, you’ll experience a morning designed to inspire\, uplift\, and connect women at every stage of their leadership journey. \nHere’s what’s in store: \n🔹 Breakfast & Networking\nStart your day building new relationships and reconnecting with fellow professionals. Grab coffee and a light breakfast provided by Patrice’s Culinary Collective and dive into conversations that matter. \n🔹 CEO Panel Discussion: Leading with Purpose\nOur featured panel of five South KC CEOs will share real-world insights on navigating leadership\, building influence\, and breaking through barriers in business and beyond. KSHB 41 Reporter\, Megan Abundis\, will moderate the session. \n🔹 Roundtable Session for Q&A and Discussion\nTake your learning further in a small group setting. Ask questions\, dive deeper into topics\, and gain personal perspectives from the CEOs in a more intimate\, engaging environment. \nThis isn’t just another networking breakfast— it’s a catalyst for growth. Whether you’re building your leadership skills\, managing a team\, or running your own business\, the Women’s Leadership Breakfast offers the tools\, inspiration\, and community to help you rise to the next level. \nThis is an incredible opportunity to:\n Gain valuable insights from top women executives\n Learn practical leadership strategies for growth\n Connect with other ambitious professionals in our community\n Be inspired by real stories of resilience\, innovation\, and success \nDon’t miss your chance to be part of this empowering experience. Space is limited\, and we expect this event to fill quickly. Bring a friend and secure your spot today! \n$35 South KC Chamber Member | $50 Not-Yet-A South KC Chamber Member \nCome hungry for knowledge\, connection\, and breakfast — and leave with the confidence and community to lead boldly. \nWe can’t wait to see you there. \n \nSponsorship opportunities tailored to meet the needs of your business are available – Reach out to Rick or Sarah at 816-761-7660. \n	\n		Share This!\n		FacebookTwitterLinkedInEmail
URL:https://southkcchamber.com/event/womens-leadership-breakfast/
LOCATION:The Harry S. Truman Meeting Room at the South KC Chamber of Commerce\, 1300 E 94th Street\, Suite 100\, Kansas City\, MO\, 64131\, United States
CATEGORIES:Business Education
END:VEVENT
END:VCALENDAR