BEGIN:VCALENDAR
VERSION:2.0
PRODID:-//South KC Chamber - ECPv6.15.18//NONSGML v1.0//EN
CALSCALE:GREGORIAN
METHOD:PUBLISH
X-WR-CALNAME:South KC Chamber
X-ORIGINAL-URL:https://southkcchamber.com
X-WR-CALDESC:Events for South KC Chamber
REFRESH-INTERVAL;VALUE=DURATION:PT1H
X-Robots-Tag:noindex
X-PUBLISHED-TTL:PT1H
BEGIN:VTIMEZONE
TZID:America/Chicago
BEGIN:DAYLIGHT
TZOFFSETFROM:-0600
TZOFFSETTO:-0500
TZNAME:CDT
DTSTART:20250309T080000
END:DAYLIGHT
BEGIN:STANDARD
TZOFFSETFROM:-0500
TZOFFSETTO:-0600
TZNAME:CST
DTSTART:20251102T070000
END:STANDARD
BEGIN:DAYLIGHT
TZOFFSETFROM:-0600
TZOFFSETTO:-0500
TZNAME:CDT
DTSTART:20260308T080000
END:DAYLIGHT
BEGIN:STANDARD
TZOFFSETFROM:-0500
TZOFFSETTO:-0600
TZNAME:CST
DTSTART:20261101T070000
END:STANDARD
BEGIN:DAYLIGHT
TZOFFSETFROM:-0600
TZOFFSETTO:-0500
TZNAME:CDT
DTSTART:20270314T080000
END:DAYLIGHT
BEGIN:STANDARD
TZOFFSETFROM:-0500
TZOFFSETTO:-0600
TZNAME:CST
DTSTART:20271107T070000
END:STANDARD
END:VTIMEZONE
BEGIN:VEVENT
DTSTART;TZID=America/Chicago:20260226T170000
DTEND;TZID=America/Chicago:20260226T200000
DTSTAMP:20260423T044516
CREATED:20251117T213129Z
LAST-MODIFIED:20260203T200643Z
UID:6010-1772125200-1772136000@southkcchamber.com
SUMMARY:95th Annual Dinner & Community Impact Awards presented by Master's
DESCRIPTION:Celebrate community and business at the Chamber’s 95th Annual Dinner & Community Impact Awards\, presented by Master’s – Moving People Forward.  \n\n\n\nEnjoy a glamorous Rat Pack–inspired evening with a throwback to the days of Frank Sinatra\, Dean Martin\, and Sammy Davis\, Jr.  \n\n\n\nThe night kicks off with lively Mouse Races\, followed by dinner and a Chamber update\, and concludes with the Community Impact Awards honoring businesses and volunteers making a positive difference.  \n\n\n\nFunds raised support Chamber initiatives that make South KC the best place to live\, work\, learn\, and play. \n\n\n\n \n\n\n\nPromote your business with a sponsorship or purchase your ticket today!   \n\n\n\n\n\n\n\n\n\n\n\n\n\n\n\n \n	\n		Share This!\n		FacebookTwitterLinkedInEmail
URL:https://southkcchamber.com/event/95th-annual-dinner/
LOCATION:Armacost Car Museum\, 4200 E. 135th Street\, Grandview\, MO\, 64030\, United States
CATEGORIES:Annual Dinner
END:VEVENT
END:VCALENDAR