BEGIN:VCALENDAR
VERSION:2.0
PRODID:-//South KC Chamber - ECPv6.15.18//NONSGML v1.0//EN
CALSCALE:GREGORIAN
METHOD:PUBLISH
X-ORIGINAL-URL:https://southkcchamber.com
X-WR-CALDESC:Events for South KC Chamber
REFRESH-INTERVAL;VALUE=DURATION:PT1H
X-Robots-Tag:noindex
X-PUBLISHED-TTL:PT1H
BEGIN:VTIMEZONE
TZID:America/Chicago
BEGIN:DAYLIGHT
TZOFFSETFROM:-0600
TZOFFSETTO:-0500
TZNAME:CDT
DTSTART:20240310T080000
END:DAYLIGHT
BEGIN:STANDARD
TZOFFSETFROM:-0500
TZOFFSETTO:-0600
TZNAME:CST
DTSTART:20241103T070000
END:STANDARD
BEGIN:DAYLIGHT
TZOFFSETFROM:-0600
TZOFFSETTO:-0500
TZNAME:CDT
DTSTART:20250309T080000
END:DAYLIGHT
BEGIN:STANDARD
TZOFFSETFROM:-0500
TZOFFSETTO:-0600
TZNAME:CST
DTSTART:20251102T070000
END:STANDARD
BEGIN:DAYLIGHT
TZOFFSETFROM:-0600
TZOFFSETTO:-0500
TZNAME:CDT
DTSTART:20260308T080000
END:DAYLIGHT
BEGIN:STANDARD
TZOFFSETFROM:-0500
TZOFFSETTO:-0600
TZNAME:CST
DTSTART:20261101T070000
END:STANDARD
END:VTIMEZONE
BEGIN:VEVENT
DTSTART;TZID=America/Chicago:20250306T170000
DTEND;TZID=America/Chicago:20250306T200000
DTSTAMP:20260423T234100
CREATED:20240703T152149Z
LAST-MODIFIED:20250210T201319Z
UID:5593-1741280400-1741291200@southkcchamber.com
SUMMARY:94th Annual Dinner
DESCRIPTION:Step into a world of elegance\, intrigue and excitement where sophistication meets high stakes in an unforgettable evening of celebration\, glamour and good fortune. Inspired by the allure of Casino Royale\, enjoy networking\, cheer on furry speedsters in the Spartan Derby Mouse Races sponsored by Spartan Ramjack\, sample wines with Rosehill Gardens\, place bids in the online auction or take a chance with the wine pull. The event culminates with the Community IMPACT awards-celebrating businesses and volunteers for positively impacting our community.  The South KC Chamber’s largest fundraiser\, Casino Royale promises an exclusive experience of opulence\, networking and a dash of thrilling risk.  Funds raised support all of the chamber events and activities which make South KC the BEST place to live\, work\, learn and play. Register today!\n\n\n\n\n\n\n\n\n\n\n\n\n\n\n\n\n\n\n\n\n\n\n\nArmacost Car Museum\n4200 E. 135th Street\, Grandview\, MO 64030\nView on map\n\n\n\n\n\n\n\n\n\n\n\n\n\n\n\n\n\n\n\n\n\n\n\nFeb 13\, 2025 05:00pm – Feb 13\, 2025 08:00pm \nAdd to Google · Outlook Web · Outlook Mobile · Yahoo · iCal \n  \n\n\n\n\n	\n		Share This!\n		FacebookTwitterLinkedInEmail
URL:https://southkcchamber.com/event/94th-annual-dinner/
LOCATION:Armacost Car Museum\, 4200 E. 135th Street\, Grandview\, MO\, 64030\, United States
CATEGORIES:Annual Dinner
END:VEVENT
END:VCALENDAR